BEGIN:VCALENDAR
VERSION:2.0
PRODID:-//Häng med! - ECPv6.15.20//NONSGML v1.0//EN
CALSCALE:GREGORIAN
METHOD:PUBLISH
X-WR-CALNAME:Häng med!
X-ORIGINAL-URL:https://hangmed.se
X-WR-CALDESC:Händelser för Häng med!
REFRESH-INTERVAL;VALUE=DURATION:PT1H
X-Robots-Tag:noindex
X-PUBLISHED-TTL:PT1H
BEGIN:VTIMEZONE
TZID:Europe/Paris
BEGIN:DAYLIGHT
TZOFFSETFROM:+0100
TZOFFSETTO:+0200
TZNAME:CEST
DTSTART:20250330T010000
END:DAYLIGHT
BEGIN:STANDARD
TZOFFSETFROM:+0200
TZOFFSETTO:+0100
TZNAME:CET
DTSTART:20251026T010000
END:STANDARD
BEGIN:DAYLIGHT
TZOFFSETFROM:+0100
TZOFFSETTO:+0200
TZNAME:CEST
DTSTART:20260329T010000
END:DAYLIGHT
BEGIN:STANDARD
TZOFFSETFROM:+0200
TZOFFSETTO:+0100
TZNAME:CET
DTSTART:20261025T010000
END:STANDARD
BEGIN:DAYLIGHT
TZOFFSETFROM:+0100
TZOFFSETTO:+0200
TZNAME:CEST
DTSTART:20270328T010000
END:DAYLIGHT
BEGIN:STANDARD
TZOFFSETFROM:+0200
TZOFFSETTO:+0100
TZNAME:CET
DTSTART:20271031T010000
END:STANDARD
END:VTIMEZONE
BEGIN:VEVENT
DTSTART;TZID=Europe/Paris:20260429T140000
DTEND;TZID=Europe/Paris:20260429T160000
DTSTAMP:20260419T195457
CREATED:20260112T054656Z
LAST-MODIFIED:20260113T055813Z
UID:10000504-1777471200-1777478400@hangmed.se
SUMMARY:Röda Soffan
DESCRIPTION:Röda Soffan är en öppen caféträff som främst riktar sig till seniorer. Vi träffas och pratar om gammalt och nytt under enkla former. Ibland får vi lyssna till någon som läser ur en bok eller berättar om minnen från förr. \nVi träffas sista onsdagen i månaden mellan klockan 14 och 16.\nVälkommen till en trevlig samvaro där vi bjuder på fika! \nBesök gärna Nora rödakorskrets egen hemsida för att se våra andra aktiviteter\, vi har även en Väntjänst\, utbildningar och kris- och beredskapsaktiviteter\, klicka på: Nora rödakorskrets
URL:https://hangmed.se/aktivitet/roda-soffan-2/2026-04-29/
LOCATION:Röda Korsets lokal\, Skolgatan 11C\, Nora\, 71331\, Sweden
ATTACH;FMTTYPE=image/jpeg:https://hangmed.se/wp-content/uploads/2025/11/Roda-Soffan-e1762770246350.jpg
ORGANIZER;CN="Nora R%C3%B6dakorskrets":MAILTO:nora@redcross.se
END:VEVENT
BEGIN:VEVENT
DTSTART;TZID=Europe/Paris:20260527T140000
DTEND;TZID=Europe/Paris:20260527T160000
DTSTAMP:20260419T195457
CREATED:20260112T054656Z
LAST-MODIFIED:20260113T055813Z
UID:10000505-1779890400-1779897600@hangmed.se
SUMMARY:Röda Soffan
DESCRIPTION:Röda Soffan är en öppen caféträff som främst riktar sig till seniorer. Vi träffas och pratar om gammalt och nytt under enkla former. Ibland får vi lyssna till någon som läser ur en bok eller berättar om minnen från förr. \nVi träffas sista onsdagen i månaden mellan klockan 14 och 16.\nVälkommen till en trevlig samvaro där vi bjuder på fika! \nBesök gärna Nora rödakorskrets egen hemsida för att se våra andra aktiviteter\, vi har även en Väntjänst\, utbildningar och kris- och beredskapsaktiviteter\, klicka på: Nora rödakorskrets
URL:https://hangmed.se/aktivitet/roda-soffan-2/2026-05-27/
LOCATION:Röda Korsets lokal\, Skolgatan 11C\, Nora\, 71331\, Sweden
ATTACH;FMTTYPE=image/jpeg:https://hangmed.se/wp-content/uploads/2025/11/Roda-Soffan-e1762770246350.jpg
ORGANIZER;CN="Nora R%C3%B6dakorskrets":MAILTO:nora@redcross.se
END:VEVENT
END:VCALENDAR