BEGIN:VCALENDAR
VERSION:2.0
PRODID:-//Häng med! - ECPv6.15.20//NONSGML v1.0//EN
CALSCALE:GREGORIAN
METHOD:PUBLISH
X-ORIGINAL-URL:https://hangmed.se
X-WR-CALDESC:Händelser för Häng med!
REFRESH-INTERVAL;VALUE=DURATION:PT1H
X-Robots-Tag:noindex
X-PUBLISHED-TTL:PT1H
BEGIN:VTIMEZONE
TZID:Europe/Paris
BEGIN:DAYLIGHT
TZOFFSETFROM:+0100
TZOFFSETTO:+0200
TZNAME:CEST
DTSTART:20250330T010000
END:DAYLIGHT
BEGIN:STANDARD
TZOFFSETFROM:+0200
TZOFFSETTO:+0100
TZNAME:CET
DTSTART:20251026T010000
END:STANDARD
BEGIN:DAYLIGHT
TZOFFSETFROM:+0100
TZOFFSETTO:+0200
TZNAME:CEST
DTSTART:20260329T010000
END:DAYLIGHT
BEGIN:STANDARD
TZOFFSETFROM:+0200
TZOFFSETTO:+0100
TZNAME:CET
DTSTART:20261025T010000
END:STANDARD
BEGIN:DAYLIGHT
TZOFFSETFROM:+0100
TZOFFSETTO:+0200
TZNAME:CEST
DTSTART:20270328T010000
END:DAYLIGHT
BEGIN:STANDARD
TZOFFSETFROM:+0200
TZOFFSETTO:+0100
TZNAME:CET
DTSTART:20271031T010000
END:STANDARD
END:VTIMEZONE
BEGIN:VEVENT
DTSTART;TZID=Europe/Paris:20260903T070000
DTEND;TZID=Europe/Paris:20260903T173000
DTSTAMP:20260420T070319
CREATED:20251228T183435Z
LAST-MODIFIED:20251228T183435Z
UID:10000486-1788418800-1788456600@hangmed.se
SUMMARY:Resa till Blacksta vingård 3 september
DESCRIPTION:Den 3e september klockan 07 15 avgår bussen från Skojarbacken.\nDå bär det av till Blacksta vingård i Sörmland där vi kommer delta i en vinprovning bestående av 2 provglas vin samt en rundvandring på vingården.\nNågonstans utefter vägen intar vi en bussfika med smörgås. \nVi ges möjlighet att inhandla de drycker som tillverkas på gården\, vin\, öl och sprit. Det finns även obemannad gårdsbutik på andra sidan vägen som säljer viltkött och fisk. \nLunch intar vi på Blacksta vingård bestående av varmrätt\, dessert och kaffe. Meddela ev allergier. \nPris: 800 kronor beräknat på 40 resenärer. I priset ingår bussfika\, lunch\, vinprovning och bussresa.\nSista anmälningsdag: 21 augusti\nKontaktperson/anmälan: Lotta Månsson\, 070-4612799 \nOBS! Vid avanmälan senare än en vecka innan tas halva kostnaden ut. \nDenna aktivitet gäller bara för PRO-medlemmar\, men varför inte bli medlem och följ med.
URL:https://hangmed.se/aktivitet/resa-till-blacksta-vingard-3-september/
ATTACH;FMTTYPE=image/jpeg:https://hangmed.se/wp-content/uploads/2025/12/blacksta-vingard.jpg
ORGANIZER;CN="PRO Nora":MAILTO:nora@pro.se
END:VEVENT
BEGIN:VEVENT
DTSTART;TZID=Europe/Paris:20260903T160000
DTEND;TZID=Europe/Paris:20260903T190000
DTSTAMP:20260420T070319
CREATED:20251209T143136Z
LAST-MODIFIED:20251209T143136Z
UID:10000152-1788451200-1788462000@hangmed.se
SUMMARY:Släktforskarstugan öppen
DESCRIPTION:Mellan kl 16 och 19 får du hjälp med din släktforskning eller får se hur släktforskning går till. Det finns alltid två handledare på plats. \nGratis för medlemmar\, övriga 40 kr per gång.
URL:https://hangmed.se/aktivitet/slaktforskarstugan-oppen-6/2026-09-03/
LOCATION:Nora släktforskare\, Kungsgatan 23 inne på gården\, Nora\, 71330\, Sweden
ATTACH;FMTTYPE=image/jpeg:https://hangmed.se/wp-content/uploads/2025/11/Lokalen-Kungsgatan-23-e1767616184465.jpg
ORGANIZER;CN="Nora sl%C3%A4kforskare":MAILTO:ordforande@noraforskare.se
END:VEVENT
BEGIN:VEVENT
DTSTART;TZID=Europe/Paris:20260907T140000
DTEND;TZID=Europe/Paris:20260907T160000
DTSTAMP:20260420T070319
CREATED:20251209T144631Z
LAST-MODIFIED:20251209T144631Z
UID:10000222-1788789600-1788796800@hangmed.se
SUMMARY:Träffpunkt Äntligen måndag
DESCRIPTION:Träffpunkt Äntligen Måndag riktar sig främst till Noras seniorer och är öppen alla måndagar. \nDelta i aktiviteter\nExempel på aktiviteter som träffpunkt anordnar är underhållning i form av olika kulturarrangemang som musik\, modevisning\, inbjudna föreläsare med mera! \nNär: måndagar \nTid: 14.00-16.00 \nVar: Rådstugugatan 37\, (ingång från Svartälvsgatan 12-14)\, 713 31 Nora\, Tullbackagårdens samlingssal. \nArrangörer: Ett samarbete mellan Röda korset\, SPF Club Skoga\, Region Örebro län\, PRO Nora\, Väntjänsten i Nora\, Hela människan\, Nora Bergslagförsamling\, Nora släktforskare och Nora kommun. \n 
URL:https://hangmed.se/aktivitet/traffpunkt-antligen-mandag-2/2026-09-07/
LOCATION:Tullbackagården\, Rådstugugatan 37\, (ingång från Svartälvsgatan 12-14)\, Nora\, 71331\, Sweden
ATTACH;FMTTYPE=image/jpeg:https://hangmed.se/wp-content/uploads/2025/10/tulbackagarden_IMG_2621_srickan.jpg
END:VEVENT
BEGIN:VEVENT
DTSTART;TZID=Europe/Paris:20260910T160000
DTEND;TZID=Europe/Paris:20260910T190000
DTSTAMP:20260420T070319
CREATED:20251209T143136Z
LAST-MODIFIED:20251209T143136Z
UID:10000153-1789056000-1789066800@hangmed.se
SUMMARY:Släktforskarstugan öppen
DESCRIPTION:Mellan kl 16 och 19 får du hjälp med din släktforskning eller får se hur släktforskning går till. Det finns alltid två handledare på plats. \nGratis för medlemmar\, övriga 40 kr per gång.
URL:https://hangmed.se/aktivitet/slaktforskarstugan-oppen-6/2026-09-10/
LOCATION:Nora släktforskare\, Kungsgatan 23 inne på gården\, Nora\, 71330\, Sweden
ATTACH;FMTTYPE=image/jpeg:https://hangmed.se/wp-content/uploads/2025/11/Lokalen-Kungsgatan-23-e1767616184465.jpg
ORGANIZER;CN="Nora sl%C3%A4kforskare":MAILTO:ordforande@noraforskare.se
END:VEVENT
BEGIN:VEVENT
DTSTART;TZID=Europe/Paris:20260913T160000
DTEND;TZID=Europe/Paris:20260913T170000
DTSTAMP:20260420T070319
CREATED:20251228T153318Z
LAST-MODIFIED:20251229T115835Z
UID:10000436-1789315200-1789318800@hangmed.se
SUMMARY:Var med och sjung med Nobellakören
DESCRIPTION:Nobellakören\, varannan söndag jämna veckor kl. 16.00-17.00\nPRO Nora och Hela människan i samarbete \nPlats:  Skyttepaviljongen Gyttorp (vid Nobelparken\, väg 243 Hälleforsvägen\, Gyttorp\, Sweden) \nBeskrivning:  Vi träffas och övar på nya och gamla sånger. Vi sjunger\, fikar och har trevligt tillsammans. Ibland träffas vi på andra platser\, för att glädja andra med vår sång. \nLedare:    Anna-Lena Schöllin   070-270 39 81\nMarie Pehrsson  070-630 31 92 \nDenna aktivitet är gratis
URL:https://hangmed.se/aktivitet/var-med-och-sjung-med-nobellakoren/2026-09-13/
LOCATION:Skyttepaviljongen i Gyttorp\, Nobelparken\, Gyttorp\, Gyttorp\, Sweden
ATTACH;FMTTYPE=image/jpeg:https://hangmed.se/wp-content/uploads/2025/12/kor.jpg
ORGANIZER;CN="PRO Nora":MAILTO:nora@pro.se
END:VEVENT
BEGIN:VEVENT
DTSTART;TZID=Europe/Paris:20260914T140000
DTEND;TZID=Europe/Paris:20260914T160000
DTSTAMP:20260420T070319
CREATED:20251209T144631Z
LAST-MODIFIED:20251209T144631Z
UID:10000223-1789394400-1789401600@hangmed.se
SUMMARY:Träffpunkt Äntligen måndag
DESCRIPTION:Träffpunkt Äntligen Måndag riktar sig främst till Noras seniorer och är öppen alla måndagar. \nDelta i aktiviteter\nExempel på aktiviteter som träffpunkt anordnar är underhållning i form av olika kulturarrangemang som musik\, modevisning\, inbjudna föreläsare med mera! \nNär: måndagar \nTid: 14.00-16.00 \nVar: Rådstugugatan 37\, (ingång från Svartälvsgatan 12-14)\, 713 31 Nora\, Tullbackagårdens samlingssal. \nArrangörer: Ett samarbete mellan Röda korset\, SPF Club Skoga\, Region Örebro län\, PRO Nora\, Väntjänsten i Nora\, Hela människan\, Nora Bergslagförsamling\, Nora släktforskare och Nora kommun. \n 
URL:https://hangmed.se/aktivitet/traffpunkt-antligen-mandag-2/2026-09-14/
LOCATION:Tullbackagården\, Rådstugugatan 37\, (ingång från Svartälvsgatan 12-14)\, Nora\, 71331\, Sweden
ATTACH;FMTTYPE=image/jpeg:https://hangmed.se/wp-content/uploads/2025/10/tulbackagarden_IMG_2621_srickan.jpg
END:VEVENT
BEGIN:VEVENT
DTSTART;TZID=Europe/Paris:20260917T160000
DTEND;TZID=Europe/Paris:20260917T190000
DTSTAMP:20260420T070319
CREATED:20251209T143136Z
LAST-MODIFIED:20251209T143136Z
UID:10000154-1789660800-1789671600@hangmed.se
SUMMARY:Släktforskarstugan öppen
DESCRIPTION:Mellan kl 16 och 19 får du hjälp med din släktforskning eller får se hur släktforskning går till. Det finns alltid två handledare på plats. \nGratis för medlemmar\, övriga 40 kr per gång.
URL:https://hangmed.se/aktivitet/slaktforskarstugan-oppen-6/2026-09-17/
LOCATION:Nora släktforskare\, Kungsgatan 23 inne på gården\, Nora\, 71330\, Sweden
ATTACH;FMTTYPE=image/jpeg:https://hangmed.se/wp-content/uploads/2025/11/Lokalen-Kungsgatan-23-e1767616184465.jpg
ORGANIZER;CN="Nora sl%C3%A4kforskare":MAILTO:ordforande@noraforskare.se
END:VEVENT
BEGIN:VEVENT
DTSTART;TZID=Europe/Paris:20260918T140000
DTEND;TZID=Europe/Paris:20260918T160000
DTSTAMP:20260420T070319
CREATED:20251228T174901Z
LAST-MODIFIED:20251228T174901Z
UID:10000480-1789740000-1789747200@hangmed.se
SUMMARY:Medlemsmöte 18 september 2026
DESCRIPTION:Medlemsmöte på Hagby ängar kl 14 00. \n\nInformation\nAnneth Pettersson underhåller\nLotterier\nKaffe med dopp\n\nEntre: 40 kronor \nIngen anmälan. \nDenna aktivitet gäller bara för PRO-medlemmar\, men varför inte komma och prova på och bli medlem på plats.
URL:https://hangmed.se/aktivitet/medlemsmote-18-september-2026/
LOCATION:Hagbyängars samlingssal\, Trängkårsvägen 7B\, Nora\, 71330\, Sweden
ATTACH;FMTTYPE=image/jpeg:https://hangmed.se/wp-content/uploads/2025/12/Hagby-1-scaled.jpg
ORGANIZER;CN="PRO Nora":MAILTO:nora@pro.se
END:VEVENT
BEGIN:VEVENT
DTSTART;TZID=Europe/Paris:20260921T140000
DTEND;TZID=Europe/Paris:20260921T160000
DTSTAMP:20260420T070319
CREATED:20251209T144631Z
LAST-MODIFIED:20251209T144631Z
UID:10000224-1789999200-1790006400@hangmed.se
SUMMARY:Träffpunkt Äntligen måndag
DESCRIPTION:Träffpunkt Äntligen Måndag riktar sig främst till Noras seniorer och är öppen alla måndagar. \nDelta i aktiviteter\nExempel på aktiviteter som träffpunkt anordnar är underhållning i form av olika kulturarrangemang som musik\, modevisning\, inbjudna föreläsare med mera! \nNär: måndagar \nTid: 14.00-16.00 \nVar: Rådstugugatan 37\, (ingång från Svartälvsgatan 12-14)\, 713 31 Nora\, Tullbackagårdens samlingssal. \nArrangörer: Ett samarbete mellan Röda korset\, SPF Club Skoga\, Region Örebro län\, PRO Nora\, Väntjänsten i Nora\, Hela människan\, Nora Bergslagförsamling\, Nora släktforskare och Nora kommun. \n 
URL:https://hangmed.se/aktivitet/traffpunkt-antligen-mandag-2/2026-09-21/
LOCATION:Tullbackagården\, Rådstugugatan 37\, (ingång från Svartälvsgatan 12-14)\, Nora\, 71331\, Sweden
ATTACH;FMTTYPE=image/jpeg:https://hangmed.se/wp-content/uploads/2025/10/tulbackagarden_IMG_2621_srickan.jpg
END:VEVENT
BEGIN:VEVENT
DTSTART;TZID=Europe/Paris:20260924T160000
DTEND;TZID=Europe/Paris:20260924T190000
DTSTAMP:20260420T070319
CREATED:20251209T143136Z
LAST-MODIFIED:20251209T143136Z
UID:10000155-1790265600-1790276400@hangmed.se
SUMMARY:Släktforskarstugan öppen
DESCRIPTION:Mellan kl 16 och 19 får du hjälp med din släktforskning eller får se hur släktforskning går till. Det finns alltid två handledare på plats. \nGratis för medlemmar\, övriga 40 kr per gång.
URL:https://hangmed.se/aktivitet/slaktforskarstugan-oppen-6/2026-09-24/
LOCATION:Nora släktforskare\, Kungsgatan 23 inne på gården\, Nora\, 71330\, Sweden
ATTACH;FMTTYPE=image/jpeg:https://hangmed.se/wp-content/uploads/2025/11/Lokalen-Kungsgatan-23-e1767616184465.jpg
ORGANIZER;CN="Nora sl%C3%A4kforskare":MAILTO:ordforande@noraforskare.se
END:VEVENT
BEGIN:VEVENT
DTSTART;TZID=Europe/Paris:20260927T160000
DTEND;TZID=Europe/Paris:20260927T170000
DTSTAMP:20260420T070319
CREATED:20251228T153318Z
LAST-MODIFIED:20251229T115835Z
UID:10000437-1790524800-1790528400@hangmed.se
SUMMARY:Var med och sjung med Nobellakören
DESCRIPTION:Nobellakören\, varannan söndag jämna veckor kl. 16.00-17.00\nPRO Nora och Hela människan i samarbete \nPlats:  Skyttepaviljongen Gyttorp (vid Nobelparken\, väg 243 Hälleforsvägen\, Gyttorp\, Sweden) \nBeskrivning:  Vi träffas och övar på nya och gamla sånger. Vi sjunger\, fikar och har trevligt tillsammans. Ibland träffas vi på andra platser\, för att glädja andra med vår sång. \nLedare:    Anna-Lena Schöllin   070-270 39 81\nMarie Pehrsson  070-630 31 92 \nDenna aktivitet är gratis
URL:https://hangmed.se/aktivitet/var-med-och-sjung-med-nobellakoren/2026-09-27/
LOCATION:Skyttepaviljongen i Gyttorp\, Nobelparken\, Gyttorp\, Gyttorp\, Sweden
ATTACH;FMTTYPE=image/jpeg:https://hangmed.se/wp-content/uploads/2025/12/kor.jpg
ORGANIZER;CN="PRO Nora":MAILTO:nora@pro.se
END:VEVENT
BEGIN:VEVENT
DTSTART;TZID=Europe/Paris:20260928T140000
DTEND;TZID=Europe/Paris:20260928T160000
DTSTAMP:20260420T070319
CREATED:20251209T144631Z
LAST-MODIFIED:20251209T144631Z
UID:10000225-1790604000-1790611200@hangmed.se
SUMMARY:Träffpunkt Äntligen måndag
DESCRIPTION:Träffpunkt Äntligen Måndag riktar sig främst till Noras seniorer och är öppen alla måndagar. \nDelta i aktiviteter\nExempel på aktiviteter som träffpunkt anordnar är underhållning i form av olika kulturarrangemang som musik\, modevisning\, inbjudna föreläsare med mera! \nNär: måndagar \nTid: 14.00-16.00 \nVar: Rådstugugatan 37\, (ingång från Svartälvsgatan 12-14)\, 713 31 Nora\, Tullbackagårdens samlingssal. \nArrangörer: Ett samarbete mellan Röda korset\, SPF Club Skoga\, Region Örebro län\, PRO Nora\, Väntjänsten i Nora\, Hela människan\, Nora Bergslagförsamling\, Nora släktforskare och Nora kommun. \n 
URL:https://hangmed.se/aktivitet/traffpunkt-antligen-mandag-2/2026-09-28/
LOCATION:Tullbackagården\, Rådstugugatan 37\, (ingång från Svartälvsgatan 12-14)\, Nora\, 71331\, Sweden
ATTACH;FMTTYPE=image/jpeg:https://hangmed.se/wp-content/uploads/2025/10/tulbackagarden_IMG_2621_srickan.jpg
END:VEVENT
END:VCALENDAR