BEGIN:VCALENDAR
VERSION:2.0
PRODID:-//Häng med! - ECPv6.15.20//NONSGML v1.0//EN
CALSCALE:GREGORIAN
METHOD:PUBLISH
X-WR-CALNAME:Häng med!
X-ORIGINAL-URL:https://hangmed.se
X-WR-CALDESC:Händelser för Häng med!
REFRESH-INTERVAL;VALUE=DURATION:PT1H
X-Robots-Tag:noindex
X-PUBLISHED-TTL:PT1H
BEGIN:VTIMEZONE
TZID:Europe/Paris
BEGIN:DAYLIGHT
TZOFFSETFROM:+0100
TZOFFSETTO:+0200
TZNAME:CEST
DTSTART:20260329T010000
END:DAYLIGHT
BEGIN:STANDARD
TZOFFSETFROM:+0200
TZOFFSETTO:+0100
TZNAME:CET
DTSTART:20261025T010000
END:STANDARD
BEGIN:DAYLIGHT
TZOFFSETFROM:+0100
TZOFFSETTO:+0200
TZNAME:CEST
DTSTART:20270328T010000
END:DAYLIGHT
BEGIN:STANDARD
TZOFFSETFROM:+0200
TZOFFSETTO:+0100
TZNAME:CET
DTSTART:20271031T010000
END:STANDARD
BEGIN:DAYLIGHT
TZOFFSETFROM:+0100
TZOFFSETTO:+0200
TZNAME:CEST
DTSTART:20280326T010000
END:DAYLIGHT
BEGIN:STANDARD
TZOFFSETFROM:+0200
TZOFFSETTO:+0100
TZNAME:CET
DTSTART:20281029T010000
END:STANDARD
END:VTIMEZONE
BEGIN:VEVENT
DTSTART;TZID=Europe/Paris:20270301T140000
DTEND;TZID=Europe/Paris:20270301T160000
DTSTAMP:20260420T183138
CREATED:20251209T144631Z
LAST-MODIFIED:20251209T144631Z
UID:10000247-1803909600-1803916800@hangmed.se
SUMMARY:Träffpunkt Äntligen måndag
DESCRIPTION:Träffpunkt Äntligen Måndag riktar sig främst till Noras seniorer och är öppen alla måndagar. \nDelta i aktiviteter\nExempel på aktiviteter som träffpunkt anordnar är underhållning i form av olika kulturarrangemang som musik\, modevisning\, inbjudna föreläsare med mera! \nNär: måndagar \nTid: 14.00-16.00 \nVar: Rådstugugatan 37\, (ingång från Svartälvsgatan 12-14)\, 713 31 Nora\, Tullbackagårdens samlingssal. \nArrangörer: Ett samarbete mellan Röda korset\, SPF Club Skoga\, Region Örebro län\, PRO Nora\, Väntjänsten i Nora\, Hela människan\, Nora Bergslagförsamling\, Nora släktforskare och Nora kommun. \n 
URL:https://hangmed.se/aktivitet/traffpunkt-antligen-mandag-2/2027-03-01/
LOCATION:Tullbackagården\, Rådstugugatan 37\, (ingång från Svartälvsgatan 12-14)\, Nora\, 71331\, Sweden
ATTACH;FMTTYPE=image/jpeg:https://hangmed.se/wp-content/uploads/2025/10/tulbackagarden_IMG_2621_srickan.jpg
END:VEVENT
BEGIN:VEVENT
DTSTART;TZID=Europe/Paris:20270304T160000
DTEND;TZID=Europe/Paris:20270304T190000
DTSTAMP:20260420T183138
CREATED:20251209T143136Z
LAST-MODIFIED:20251209T143136Z
UID:10000178-1804176000-1804186800@hangmed.se
SUMMARY:Släktforskarstugan öppen
DESCRIPTION:Mellan kl 16 och 19 får du hjälp med din släktforskning eller får se hur släktforskning går till. Det finns alltid två handledare på plats. \nGratis för medlemmar\, övriga 40 kr per gång.
URL:https://hangmed.se/aktivitet/slaktforskarstugan-oppen-6/2027-03-04/
LOCATION:Nora släktforskare\, Kungsgatan 23 inne på gården\, Nora\, 71330\, Sweden
ATTACH;FMTTYPE=image/jpeg:https://hangmed.se/wp-content/uploads/2025/11/Lokalen-Kungsgatan-23-e1767616184465.jpg
ORGANIZER;CN="Nora sl%C3%A4kforskare":MAILTO:ordforande@noraforskare.se
END:VEVENT
BEGIN:VEVENT
DTSTART;TZID=Europe/Paris:20270308T140000
DTEND;TZID=Europe/Paris:20270308T160000
DTSTAMP:20260420T183138
CREATED:20251209T144631Z
LAST-MODIFIED:20251209T144631Z
UID:10000248-1804514400-1804521600@hangmed.se
SUMMARY:Träffpunkt Äntligen måndag
DESCRIPTION:Träffpunkt Äntligen Måndag riktar sig främst till Noras seniorer och är öppen alla måndagar. \nDelta i aktiviteter\nExempel på aktiviteter som träffpunkt anordnar är underhållning i form av olika kulturarrangemang som musik\, modevisning\, inbjudna föreläsare med mera! \nNär: måndagar \nTid: 14.00-16.00 \nVar: Rådstugugatan 37\, (ingång från Svartälvsgatan 12-14)\, 713 31 Nora\, Tullbackagårdens samlingssal. \nArrangörer: Ett samarbete mellan Röda korset\, SPF Club Skoga\, Region Örebro län\, PRO Nora\, Väntjänsten i Nora\, Hela människan\, Nora Bergslagförsamling\, Nora släktforskare och Nora kommun. \n 
URL:https://hangmed.se/aktivitet/traffpunkt-antligen-mandag-2/2027-03-08/
LOCATION:Tullbackagården\, Rådstugugatan 37\, (ingång från Svartälvsgatan 12-14)\, Nora\, 71331\, Sweden
ATTACH;FMTTYPE=image/jpeg:https://hangmed.se/wp-content/uploads/2025/10/tulbackagarden_IMG_2621_srickan.jpg
END:VEVENT
BEGIN:VEVENT
DTSTART;TZID=Europe/Paris:20270311T160000
DTEND;TZID=Europe/Paris:20270311T190000
DTSTAMP:20260420T183138
CREATED:20251209T143136Z
LAST-MODIFIED:20251209T143136Z
UID:10000179-1804780800-1804791600@hangmed.se
SUMMARY:Släktforskarstugan öppen
DESCRIPTION:Mellan kl 16 och 19 får du hjälp med din släktforskning eller får se hur släktforskning går till. Det finns alltid två handledare på plats. \nGratis för medlemmar\, övriga 40 kr per gång.
URL:https://hangmed.se/aktivitet/slaktforskarstugan-oppen-6/2027-03-11/
LOCATION:Nora släktforskare\, Kungsgatan 23 inne på gården\, Nora\, 71330\, Sweden
ATTACH;FMTTYPE=image/jpeg:https://hangmed.se/wp-content/uploads/2025/11/Lokalen-Kungsgatan-23-e1767616184465.jpg
ORGANIZER;CN="Nora sl%C3%A4kforskare":MAILTO:ordforande@noraforskare.se
END:VEVENT
BEGIN:VEVENT
DTSTART;TZID=Europe/Paris:20270315T140000
DTEND;TZID=Europe/Paris:20270315T160000
DTSTAMP:20260420T183138
CREATED:20251209T144631Z
LAST-MODIFIED:20251209T144631Z
UID:10000249-1805119200-1805126400@hangmed.se
SUMMARY:Träffpunkt Äntligen måndag
DESCRIPTION:Träffpunkt Äntligen Måndag riktar sig främst till Noras seniorer och är öppen alla måndagar. \nDelta i aktiviteter\nExempel på aktiviteter som träffpunkt anordnar är underhållning i form av olika kulturarrangemang som musik\, modevisning\, inbjudna föreläsare med mera! \nNär: måndagar \nTid: 14.00-16.00 \nVar: Rådstugugatan 37\, (ingång från Svartälvsgatan 12-14)\, 713 31 Nora\, Tullbackagårdens samlingssal. \nArrangörer: Ett samarbete mellan Röda korset\, SPF Club Skoga\, Region Örebro län\, PRO Nora\, Väntjänsten i Nora\, Hela människan\, Nora Bergslagförsamling\, Nora släktforskare och Nora kommun. \n 
URL:https://hangmed.se/aktivitet/traffpunkt-antligen-mandag-2/2027-03-15/
LOCATION:Tullbackagården\, Rådstugugatan 37\, (ingång från Svartälvsgatan 12-14)\, Nora\, 71331\, Sweden
ATTACH;FMTTYPE=image/jpeg:https://hangmed.se/wp-content/uploads/2025/10/tulbackagarden_IMG_2621_srickan.jpg
END:VEVENT
BEGIN:VEVENT
DTSTART;TZID=Europe/Paris:20270318T160000
DTEND;TZID=Europe/Paris:20270318T190000
DTSTAMP:20260420T183138
CREATED:20251209T143136Z
LAST-MODIFIED:20251209T143136Z
UID:10000180-1805385600-1805396400@hangmed.se
SUMMARY:Släktforskarstugan öppen
DESCRIPTION:Mellan kl 16 och 19 får du hjälp med din släktforskning eller får se hur släktforskning går till. Det finns alltid två handledare på plats. \nGratis för medlemmar\, övriga 40 kr per gång.
URL:https://hangmed.se/aktivitet/slaktforskarstugan-oppen-6/2027-03-18/
LOCATION:Nora släktforskare\, Kungsgatan 23 inne på gården\, Nora\, 71330\, Sweden
ATTACH;FMTTYPE=image/jpeg:https://hangmed.se/wp-content/uploads/2025/11/Lokalen-Kungsgatan-23-e1767616184465.jpg
ORGANIZER;CN="Nora sl%C3%A4kforskare":MAILTO:ordforande@noraforskare.se
END:VEVENT
BEGIN:VEVENT
DTSTART;TZID=Europe/Paris:20270322T140000
DTEND;TZID=Europe/Paris:20270322T160000
DTSTAMP:20260420T183138
CREATED:20251209T144631Z
LAST-MODIFIED:20251209T144631Z
UID:10000250-1805724000-1805731200@hangmed.se
SUMMARY:Träffpunkt Äntligen måndag
DESCRIPTION:Träffpunkt Äntligen Måndag riktar sig främst till Noras seniorer och är öppen alla måndagar. \nDelta i aktiviteter\nExempel på aktiviteter som träffpunkt anordnar är underhållning i form av olika kulturarrangemang som musik\, modevisning\, inbjudna föreläsare med mera! \nNär: måndagar \nTid: 14.00-16.00 \nVar: Rådstugugatan 37\, (ingång från Svartälvsgatan 12-14)\, 713 31 Nora\, Tullbackagårdens samlingssal. \nArrangörer: Ett samarbete mellan Röda korset\, SPF Club Skoga\, Region Örebro län\, PRO Nora\, Väntjänsten i Nora\, Hela människan\, Nora Bergslagförsamling\, Nora släktforskare och Nora kommun. \n 
URL:https://hangmed.se/aktivitet/traffpunkt-antligen-mandag-2/2027-03-22/
LOCATION:Tullbackagården\, Rådstugugatan 37\, (ingång från Svartälvsgatan 12-14)\, Nora\, 71331\, Sweden
ATTACH;FMTTYPE=image/jpeg:https://hangmed.se/wp-content/uploads/2025/10/tulbackagarden_IMG_2621_srickan.jpg
END:VEVENT
BEGIN:VEVENT
DTSTART;TZID=Europe/Paris:20270325T160000
DTEND;TZID=Europe/Paris:20270325T190000
DTSTAMP:20260420T183138
CREATED:20251209T143136Z
LAST-MODIFIED:20251209T143136Z
UID:10000181-1805990400-1806001200@hangmed.se
SUMMARY:Släktforskarstugan öppen
DESCRIPTION:Mellan kl 16 och 19 får du hjälp med din släktforskning eller får se hur släktforskning går till. Det finns alltid två handledare på plats. \nGratis för medlemmar\, övriga 40 kr per gång.
URL:https://hangmed.se/aktivitet/slaktforskarstugan-oppen-6/2027-03-25/
LOCATION:Nora släktforskare\, Kungsgatan 23 inne på gården\, Nora\, 71330\, Sweden
ATTACH;FMTTYPE=image/jpeg:https://hangmed.se/wp-content/uploads/2025/11/Lokalen-Kungsgatan-23-e1767616184465.jpg
ORGANIZER;CN="Nora sl%C3%A4kforskare":MAILTO:ordforande@noraforskare.se
END:VEVENT
BEGIN:VEVENT
DTSTART;TZID=Europe/Paris:20270329T140000
DTEND;TZID=Europe/Paris:20270329T160000
DTSTAMP:20260420T183138
CREATED:20251209T144631Z
LAST-MODIFIED:20251209T144631Z
UID:10000251-1806328800-1806336000@hangmed.se
SUMMARY:Träffpunkt Äntligen måndag
DESCRIPTION:Träffpunkt Äntligen Måndag riktar sig främst till Noras seniorer och är öppen alla måndagar. \nDelta i aktiviteter\nExempel på aktiviteter som träffpunkt anordnar är underhållning i form av olika kulturarrangemang som musik\, modevisning\, inbjudna föreläsare med mera! \nNär: måndagar \nTid: 14.00-16.00 \nVar: Rådstugugatan 37\, (ingång från Svartälvsgatan 12-14)\, 713 31 Nora\, Tullbackagårdens samlingssal. \nArrangörer: Ett samarbete mellan Röda korset\, SPF Club Skoga\, Region Örebro län\, PRO Nora\, Väntjänsten i Nora\, Hela människan\, Nora Bergslagförsamling\, Nora släktforskare och Nora kommun. \n 
URL:https://hangmed.se/aktivitet/traffpunkt-antligen-mandag-2/2027-03-29/
LOCATION:Tullbackagården\, Rådstugugatan 37\, (ingång från Svartälvsgatan 12-14)\, Nora\, 71331\, Sweden
ATTACH;FMTTYPE=image/jpeg:https://hangmed.se/wp-content/uploads/2025/10/tulbackagarden_IMG_2621_srickan.jpg
END:VEVENT
BEGIN:VEVENT
DTSTART;TZID=Europe/Paris:20270401T160000
DTEND;TZID=Europe/Paris:20270401T190000
DTSTAMP:20260420T183138
CREATED:20251209T143136Z
LAST-MODIFIED:20251209T143136Z
UID:10000182-1806595200-1806606000@hangmed.se
SUMMARY:Släktforskarstugan öppen
DESCRIPTION:Mellan kl 16 och 19 får du hjälp med din släktforskning eller får se hur släktforskning går till. Det finns alltid två handledare på plats. \nGratis för medlemmar\, övriga 40 kr per gång.
URL:https://hangmed.se/aktivitet/slaktforskarstugan-oppen-6/2027-04-01/
LOCATION:Nora släktforskare\, Kungsgatan 23 inne på gården\, Nora\, 71330\, Sweden
ATTACH;FMTTYPE=image/jpeg:https://hangmed.se/wp-content/uploads/2025/11/Lokalen-Kungsgatan-23-e1767616184465.jpg
ORGANIZER;CN="Nora sl%C3%A4kforskare":MAILTO:ordforande@noraforskare.se
END:VEVENT
BEGIN:VEVENT
DTSTART;TZID=Europe/Paris:20270405T140000
DTEND;TZID=Europe/Paris:20270405T160000
DTSTAMP:20260420T183138
CREATED:20251209T144631Z
LAST-MODIFIED:20251209T144631Z
UID:10000252-1806933600-1806940800@hangmed.se
SUMMARY:Träffpunkt Äntligen måndag
DESCRIPTION:Träffpunkt Äntligen Måndag riktar sig främst till Noras seniorer och är öppen alla måndagar. \nDelta i aktiviteter\nExempel på aktiviteter som träffpunkt anordnar är underhållning i form av olika kulturarrangemang som musik\, modevisning\, inbjudna föreläsare med mera! \nNär: måndagar \nTid: 14.00-16.00 \nVar: Rådstugugatan 37\, (ingång från Svartälvsgatan 12-14)\, 713 31 Nora\, Tullbackagårdens samlingssal. \nArrangörer: Ett samarbete mellan Röda korset\, SPF Club Skoga\, Region Örebro län\, PRO Nora\, Väntjänsten i Nora\, Hela människan\, Nora Bergslagförsamling\, Nora släktforskare och Nora kommun. \n 
URL:https://hangmed.se/aktivitet/traffpunkt-antligen-mandag-2/2027-04-05/
LOCATION:Tullbackagården\, Rådstugugatan 37\, (ingång från Svartälvsgatan 12-14)\, Nora\, 71331\, Sweden
ATTACH;FMTTYPE=image/jpeg:https://hangmed.se/wp-content/uploads/2025/10/tulbackagarden_IMG_2621_srickan.jpg
END:VEVENT
BEGIN:VEVENT
DTSTART;TZID=Europe/Paris:20270408T160000
DTEND;TZID=Europe/Paris:20270408T190000
DTSTAMP:20260420T183138
CREATED:20251209T143136Z
LAST-MODIFIED:20251209T143136Z
UID:10000183-1807200000-1807210800@hangmed.se
SUMMARY:Släktforskarstugan öppen
DESCRIPTION:Mellan kl 16 och 19 får du hjälp med din släktforskning eller får se hur släktforskning går till. Det finns alltid två handledare på plats. \nGratis för medlemmar\, övriga 40 kr per gång.
URL:https://hangmed.se/aktivitet/slaktforskarstugan-oppen-6/2027-04-08/
LOCATION:Nora släktforskare\, Kungsgatan 23 inne på gården\, Nora\, 71330\, Sweden
ATTACH;FMTTYPE=image/jpeg:https://hangmed.se/wp-content/uploads/2025/11/Lokalen-Kungsgatan-23-e1767616184465.jpg
ORGANIZER;CN="Nora sl%C3%A4kforskare":MAILTO:ordforande@noraforskare.se
END:VEVENT
BEGIN:VEVENT
DTSTART;TZID=Europe/Paris:20270412T140000
DTEND;TZID=Europe/Paris:20270412T160000
DTSTAMP:20260420T183138
CREATED:20251209T144631Z
LAST-MODIFIED:20251209T144631Z
UID:10000253-1807538400-1807545600@hangmed.se
SUMMARY:Träffpunkt Äntligen måndag
DESCRIPTION:Träffpunkt Äntligen Måndag riktar sig främst till Noras seniorer och är öppen alla måndagar. \nDelta i aktiviteter\nExempel på aktiviteter som träffpunkt anordnar är underhållning i form av olika kulturarrangemang som musik\, modevisning\, inbjudna föreläsare med mera! \nNär: måndagar \nTid: 14.00-16.00 \nVar: Rådstugugatan 37\, (ingång från Svartälvsgatan 12-14)\, 713 31 Nora\, Tullbackagårdens samlingssal. \nArrangörer: Ett samarbete mellan Röda korset\, SPF Club Skoga\, Region Örebro län\, PRO Nora\, Väntjänsten i Nora\, Hela människan\, Nora Bergslagförsamling\, Nora släktforskare och Nora kommun. \n 
URL:https://hangmed.se/aktivitet/traffpunkt-antligen-mandag-2/2027-04-12/
LOCATION:Tullbackagården\, Rådstugugatan 37\, (ingång från Svartälvsgatan 12-14)\, Nora\, 71331\, Sweden
ATTACH;FMTTYPE=image/jpeg:https://hangmed.se/wp-content/uploads/2025/10/tulbackagarden_IMG_2621_srickan.jpg
END:VEVENT
BEGIN:VEVENT
DTSTART;TZID=Europe/Paris:20270415T160000
DTEND;TZID=Europe/Paris:20270415T190000
DTSTAMP:20260420T183138
CREATED:20251209T143136Z
LAST-MODIFIED:20251209T143136Z
UID:10000184-1807804800-1807815600@hangmed.se
SUMMARY:Släktforskarstugan öppen
DESCRIPTION:Mellan kl 16 och 19 får du hjälp med din släktforskning eller får se hur släktforskning går till. Det finns alltid två handledare på plats. \nGratis för medlemmar\, övriga 40 kr per gång.
URL:https://hangmed.se/aktivitet/slaktforskarstugan-oppen-6/2027-04-15/
LOCATION:Nora släktforskare\, Kungsgatan 23 inne på gården\, Nora\, 71330\, Sweden
ATTACH;FMTTYPE=image/jpeg:https://hangmed.se/wp-content/uploads/2025/11/Lokalen-Kungsgatan-23-e1767616184465.jpg
ORGANIZER;CN="Nora sl%C3%A4kforskare":MAILTO:ordforande@noraforskare.se
END:VEVENT
BEGIN:VEVENT
DTSTART;TZID=Europe/Paris:20270419T140000
DTEND;TZID=Europe/Paris:20270419T160000
DTSTAMP:20260420T183138
CREATED:20251209T144631Z
LAST-MODIFIED:20251209T144631Z
UID:10000254-1808143200-1808150400@hangmed.se
SUMMARY:Träffpunkt Äntligen måndag
DESCRIPTION:Träffpunkt Äntligen Måndag riktar sig främst till Noras seniorer och är öppen alla måndagar. \nDelta i aktiviteter\nExempel på aktiviteter som träffpunkt anordnar är underhållning i form av olika kulturarrangemang som musik\, modevisning\, inbjudna föreläsare med mera! \nNär: måndagar \nTid: 14.00-16.00 \nVar: Rådstugugatan 37\, (ingång från Svartälvsgatan 12-14)\, 713 31 Nora\, Tullbackagårdens samlingssal. \nArrangörer: Ett samarbete mellan Röda korset\, SPF Club Skoga\, Region Örebro län\, PRO Nora\, Väntjänsten i Nora\, Hela människan\, Nora Bergslagförsamling\, Nora släktforskare och Nora kommun. \n 
URL:https://hangmed.se/aktivitet/traffpunkt-antligen-mandag-2/2027-04-19/
LOCATION:Tullbackagården\, Rådstugugatan 37\, (ingång från Svartälvsgatan 12-14)\, Nora\, 71331\, Sweden
ATTACH;FMTTYPE=image/jpeg:https://hangmed.se/wp-content/uploads/2025/10/tulbackagarden_IMG_2621_srickan.jpg
END:VEVENT
BEGIN:VEVENT
DTSTART;TZID=Europe/Paris:20270422T160000
DTEND;TZID=Europe/Paris:20270422T190000
DTSTAMP:20260420T183138
CREATED:20251209T143136Z
LAST-MODIFIED:20251209T143136Z
UID:10000185-1808409600-1808420400@hangmed.se
SUMMARY:Släktforskarstugan öppen
DESCRIPTION:Mellan kl 16 och 19 får du hjälp med din släktforskning eller får se hur släktforskning går till. Det finns alltid två handledare på plats. \nGratis för medlemmar\, övriga 40 kr per gång.
URL:https://hangmed.se/aktivitet/slaktforskarstugan-oppen-6/2027-04-22/
LOCATION:Nora släktforskare\, Kungsgatan 23 inne på gården\, Nora\, 71330\, Sweden
ATTACH;FMTTYPE=image/jpeg:https://hangmed.se/wp-content/uploads/2025/11/Lokalen-Kungsgatan-23-e1767616184465.jpg
ORGANIZER;CN="Nora sl%C3%A4kforskare":MAILTO:ordforande@noraforskare.se
END:VEVENT
BEGIN:VEVENT
DTSTART;TZID=Europe/Paris:20270426T140000
DTEND;TZID=Europe/Paris:20270426T160000
DTSTAMP:20260420T183138
CREATED:20251209T144631Z
LAST-MODIFIED:20251209T144631Z
UID:10000255-1808748000-1808755200@hangmed.se
SUMMARY:Träffpunkt Äntligen måndag
DESCRIPTION:Träffpunkt Äntligen Måndag riktar sig främst till Noras seniorer och är öppen alla måndagar. \nDelta i aktiviteter\nExempel på aktiviteter som träffpunkt anordnar är underhållning i form av olika kulturarrangemang som musik\, modevisning\, inbjudna föreläsare med mera! \nNär: måndagar \nTid: 14.00-16.00 \nVar: Rådstugugatan 37\, (ingång från Svartälvsgatan 12-14)\, 713 31 Nora\, Tullbackagårdens samlingssal. \nArrangörer: Ett samarbete mellan Röda korset\, SPF Club Skoga\, Region Örebro län\, PRO Nora\, Väntjänsten i Nora\, Hela människan\, Nora Bergslagförsamling\, Nora släktforskare och Nora kommun. \n 
URL:https://hangmed.se/aktivitet/traffpunkt-antligen-mandag-2/2027-04-26/
LOCATION:Tullbackagården\, Rådstugugatan 37\, (ingång från Svartälvsgatan 12-14)\, Nora\, 71331\, Sweden
ATTACH;FMTTYPE=image/jpeg:https://hangmed.se/wp-content/uploads/2025/10/tulbackagarden_IMG_2621_srickan.jpg
END:VEVENT
BEGIN:VEVENT
DTSTART;TZID=Europe/Paris:20270429T160000
DTEND;TZID=Europe/Paris:20270429T190000
DTSTAMP:20260420T183138
CREATED:20251209T143136Z
LAST-MODIFIED:20251209T143136Z
UID:10000186-1809014400-1809025200@hangmed.se
SUMMARY:Släktforskarstugan öppen
DESCRIPTION:Mellan kl 16 och 19 får du hjälp med din släktforskning eller får se hur släktforskning går till. Det finns alltid två handledare på plats. \nGratis för medlemmar\, övriga 40 kr per gång.
URL:https://hangmed.se/aktivitet/slaktforskarstugan-oppen-6/2027-04-29/
LOCATION:Nora släktforskare\, Kungsgatan 23 inne på gården\, Nora\, 71330\, Sweden
ATTACH;FMTTYPE=image/jpeg:https://hangmed.se/wp-content/uploads/2025/11/Lokalen-Kungsgatan-23-e1767616184465.jpg
ORGANIZER;CN="Nora sl%C3%A4kforskare":MAILTO:ordforande@noraforskare.se
END:VEVENT
BEGIN:VEVENT
DTSTART;TZID=Europe/Paris:20270503T140000
DTEND;TZID=Europe/Paris:20270503T160000
DTSTAMP:20260420T183138
CREATED:20251209T144631Z
LAST-MODIFIED:20251209T144631Z
UID:10000256-1809352800-1809360000@hangmed.se
SUMMARY:Träffpunkt Äntligen måndag
DESCRIPTION:Träffpunkt Äntligen Måndag riktar sig främst till Noras seniorer och är öppen alla måndagar. \nDelta i aktiviteter\nExempel på aktiviteter som träffpunkt anordnar är underhållning i form av olika kulturarrangemang som musik\, modevisning\, inbjudna föreläsare med mera! \nNär: måndagar \nTid: 14.00-16.00 \nVar: Rådstugugatan 37\, (ingång från Svartälvsgatan 12-14)\, 713 31 Nora\, Tullbackagårdens samlingssal. \nArrangörer: Ett samarbete mellan Röda korset\, SPF Club Skoga\, Region Örebro län\, PRO Nora\, Väntjänsten i Nora\, Hela människan\, Nora Bergslagförsamling\, Nora släktforskare och Nora kommun. \n 
URL:https://hangmed.se/aktivitet/traffpunkt-antligen-mandag-2/2027-05-03/
LOCATION:Tullbackagården\, Rådstugugatan 37\, (ingång från Svartälvsgatan 12-14)\, Nora\, 71331\, Sweden
ATTACH;FMTTYPE=image/jpeg:https://hangmed.se/wp-content/uploads/2025/10/tulbackagarden_IMG_2621_srickan.jpg
END:VEVENT
BEGIN:VEVENT
DTSTART;TZID=Europe/Paris:20270506T160000
DTEND;TZID=Europe/Paris:20270506T190000
DTSTAMP:20260420T183138
CREATED:20251209T143136Z
LAST-MODIFIED:20251209T143136Z
UID:10000187-1809619200-1809630000@hangmed.se
SUMMARY:Släktforskarstugan öppen
DESCRIPTION:Mellan kl 16 och 19 får du hjälp med din släktforskning eller får se hur släktforskning går till. Det finns alltid två handledare på plats. \nGratis för medlemmar\, övriga 40 kr per gång.
URL:https://hangmed.se/aktivitet/slaktforskarstugan-oppen-6/2027-05-06/
LOCATION:Nora släktforskare\, Kungsgatan 23 inne på gården\, Nora\, 71330\, Sweden
ATTACH;FMTTYPE=image/jpeg:https://hangmed.se/wp-content/uploads/2025/11/Lokalen-Kungsgatan-23-e1767616184465.jpg
ORGANIZER;CN="Nora sl%C3%A4kforskare":MAILTO:ordforande@noraforskare.se
END:VEVENT
BEGIN:VEVENT
DTSTART;TZID=Europe/Paris:20270510T140000
DTEND;TZID=Europe/Paris:20270510T160000
DTSTAMP:20260420T183138
CREATED:20251209T144631Z
LAST-MODIFIED:20251209T144631Z
UID:10000257-1809957600-1809964800@hangmed.se
SUMMARY:Träffpunkt Äntligen måndag
DESCRIPTION:Träffpunkt Äntligen Måndag riktar sig främst till Noras seniorer och är öppen alla måndagar. \nDelta i aktiviteter\nExempel på aktiviteter som träffpunkt anordnar är underhållning i form av olika kulturarrangemang som musik\, modevisning\, inbjudna föreläsare med mera! \nNär: måndagar \nTid: 14.00-16.00 \nVar: Rådstugugatan 37\, (ingång från Svartälvsgatan 12-14)\, 713 31 Nora\, Tullbackagårdens samlingssal. \nArrangörer: Ett samarbete mellan Röda korset\, SPF Club Skoga\, Region Örebro län\, PRO Nora\, Väntjänsten i Nora\, Hela människan\, Nora Bergslagförsamling\, Nora släktforskare och Nora kommun. \n 
URL:https://hangmed.se/aktivitet/traffpunkt-antligen-mandag-2/2027-05-10/
LOCATION:Tullbackagården\, Rådstugugatan 37\, (ingång från Svartälvsgatan 12-14)\, Nora\, 71331\, Sweden
ATTACH;FMTTYPE=image/jpeg:https://hangmed.se/wp-content/uploads/2025/10/tulbackagarden_IMG_2621_srickan.jpg
END:VEVENT
BEGIN:VEVENT
DTSTART;TZID=Europe/Paris:20270513T160000
DTEND;TZID=Europe/Paris:20270513T190000
DTSTAMP:20260420T183138
CREATED:20251209T143136Z
LAST-MODIFIED:20251209T143136Z
UID:10000188-1810224000-1810234800@hangmed.se
SUMMARY:Släktforskarstugan öppen
DESCRIPTION:Mellan kl 16 och 19 får du hjälp med din släktforskning eller får se hur släktforskning går till. Det finns alltid två handledare på plats. \nGratis för medlemmar\, övriga 40 kr per gång.
URL:https://hangmed.se/aktivitet/slaktforskarstugan-oppen-6/2027-05-13/
LOCATION:Nora släktforskare\, Kungsgatan 23 inne på gården\, Nora\, 71330\, Sweden
ATTACH;FMTTYPE=image/jpeg:https://hangmed.se/wp-content/uploads/2025/11/Lokalen-Kungsgatan-23-e1767616184465.jpg
ORGANIZER;CN="Nora sl%C3%A4kforskare":MAILTO:ordforande@noraforskare.se
END:VEVENT
BEGIN:VEVENT
DTSTART;TZID=Europe/Paris:20270517T140000
DTEND;TZID=Europe/Paris:20270517T160000
DTSTAMP:20260420T183138
CREATED:20251209T144631Z
LAST-MODIFIED:20251209T144631Z
UID:10000258-1810562400-1810569600@hangmed.se
SUMMARY:Träffpunkt Äntligen måndag
DESCRIPTION:Träffpunkt Äntligen Måndag riktar sig främst till Noras seniorer och är öppen alla måndagar. \nDelta i aktiviteter\nExempel på aktiviteter som träffpunkt anordnar är underhållning i form av olika kulturarrangemang som musik\, modevisning\, inbjudna föreläsare med mera! \nNär: måndagar \nTid: 14.00-16.00 \nVar: Rådstugugatan 37\, (ingång från Svartälvsgatan 12-14)\, 713 31 Nora\, Tullbackagårdens samlingssal. \nArrangörer: Ett samarbete mellan Röda korset\, SPF Club Skoga\, Region Örebro län\, PRO Nora\, Väntjänsten i Nora\, Hela människan\, Nora Bergslagförsamling\, Nora släktforskare och Nora kommun. \n 
URL:https://hangmed.se/aktivitet/traffpunkt-antligen-mandag-2/2027-05-17/
LOCATION:Tullbackagården\, Rådstugugatan 37\, (ingång från Svartälvsgatan 12-14)\, Nora\, 71331\, Sweden
ATTACH;FMTTYPE=image/jpeg:https://hangmed.se/wp-content/uploads/2025/10/tulbackagarden_IMG_2621_srickan.jpg
END:VEVENT
BEGIN:VEVENT
DTSTART;TZID=Europe/Paris:20270520T160000
DTEND;TZID=Europe/Paris:20270520T190000
DTSTAMP:20260420T183138
CREATED:20251209T143136Z
LAST-MODIFIED:20251209T143136Z
UID:10000189-1810828800-1810839600@hangmed.se
SUMMARY:Släktforskarstugan öppen
DESCRIPTION:Mellan kl 16 och 19 får du hjälp med din släktforskning eller får se hur släktforskning går till. Det finns alltid två handledare på plats. \nGratis för medlemmar\, övriga 40 kr per gång.
URL:https://hangmed.se/aktivitet/slaktforskarstugan-oppen-6/2027-05-20/
LOCATION:Nora släktforskare\, Kungsgatan 23 inne på gården\, Nora\, 71330\, Sweden
ATTACH;FMTTYPE=image/jpeg:https://hangmed.se/wp-content/uploads/2025/11/Lokalen-Kungsgatan-23-e1767616184465.jpg
ORGANIZER;CN="Nora sl%C3%A4kforskare":MAILTO:ordforande@noraforskare.se
END:VEVENT
BEGIN:VEVENT
DTSTART;TZID=Europe/Paris:20270524T140000
DTEND;TZID=Europe/Paris:20270524T160000
DTSTAMP:20260420T183138
CREATED:20251209T144631Z
LAST-MODIFIED:20251209T144631Z
UID:10000259-1811167200-1811174400@hangmed.se
SUMMARY:Träffpunkt Äntligen måndag
DESCRIPTION:Träffpunkt Äntligen Måndag riktar sig främst till Noras seniorer och är öppen alla måndagar. \nDelta i aktiviteter\nExempel på aktiviteter som träffpunkt anordnar är underhållning i form av olika kulturarrangemang som musik\, modevisning\, inbjudna föreläsare med mera! \nNär: måndagar \nTid: 14.00-16.00 \nVar: Rådstugugatan 37\, (ingång från Svartälvsgatan 12-14)\, 713 31 Nora\, Tullbackagårdens samlingssal. \nArrangörer: Ett samarbete mellan Röda korset\, SPF Club Skoga\, Region Örebro län\, PRO Nora\, Väntjänsten i Nora\, Hela människan\, Nora Bergslagförsamling\, Nora släktforskare och Nora kommun. \n 
URL:https://hangmed.se/aktivitet/traffpunkt-antligen-mandag-2/2027-05-24/
LOCATION:Tullbackagården\, Rådstugugatan 37\, (ingång från Svartälvsgatan 12-14)\, Nora\, 71331\, Sweden
ATTACH;FMTTYPE=image/jpeg:https://hangmed.se/wp-content/uploads/2025/10/tulbackagarden_IMG_2621_srickan.jpg
END:VEVENT
BEGIN:VEVENT
DTSTART;TZID=Europe/Paris:20270531T140000
DTEND;TZID=Europe/Paris:20270531T160000
DTSTAMP:20260420T183138
CREATED:20251209T144631Z
LAST-MODIFIED:20251209T144631Z
UID:10000260-1811772000-1811779200@hangmed.se
SUMMARY:Träffpunkt Äntligen måndag
DESCRIPTION:Träffpunkt Äntligen Måndag riktar sig främst till Noras seniorer och är öppen alla måndagar. \nDelta i aktiviteter\nExempel på aktiviteter som träffpunkt anordnar är underhållning i form av olika kulturarrangemang som musik\, modevisning\, inbjudna föreläsare med mera! \nNär: måndagar \nTid: 14.00-16.00 \nVar: Rådstugugatan 37\, (ingång från Svartälvsgatan 12-14)\, 713 31 Nora\, Tullbackagårdens samlingssal. \nArrangörer: Ett samarbete mellan Röda korset\, SPF Club Skoga\, Region Örebro län\, PRO Nora\, Väntjänsten i Nora\, Hela människan\, Nora Bergslagförsamling\, Nora släktforskare och Nora kommun. \n 
URL:https://hangmed.se/aktivitet/traffpunkt-antligen-mandag-2/2027-05-31/
LOCATION:Tullbackagården\, Rådstugugatan 37\, (ingång från Svartälvsgatan 12-14)\, Nora\, 71331\, Sweden
ATTACH;FMTTYPE=image/jpeg:https://hangmed.se/wp-content/uploads/2025/10/tulbackagarden_IMG_2621_srickan.jpg
END:VEVENT
BEGIN:VEVENT
DTSTART;TZID=Europe/Paris:20270607T140000
DTEND;TZID=Europe/Paris:20270607T160000
DTSTAMP:20260420T183138
CREATED:20251209T144631Z
LAST-MODIFIED:20251209T144631Z
UID:10000261-1812376800-1812384000@hangmed.se
SUMMARY:Träffpunkt Äntligen måndag
DESCRIPTION:Träffpunkt Äntligen Måndag riktar sig främst till Noras seniorer och är öppen alla måndagar. \nDelta i aktiviteter\nExempel på aktiviteter som träffpunkt anordnar är underhållning i form av olika kulturarrangemang som musik\, modevisning\, inbjudna föreläsare med mera! \nNär: måndagar \nTid: 14.00-16.00 \nVar: Rådstugugatan 37\, (ingång från Svartälvsgatan 12-14)\, 713 31 Nora\, Tullbackagårdens samlingssal. \nArrangörer: Ett samarbete mellan Röda korset\, SPF Club Skoga\, Region Örebro län\, PRO Nora\, Väntjänsten i Nora\, Hela människan\, Nora Bergslagförsamling\, Nora släktforskare och Nora kommun. \n 
URL:https://hangmed.se/aktivitet/traffpunkt-antligen-mandag-2/2027-06-07/
LOCATION:Tullbackagården\, Rådstugugatan 37\, (ingång från Svartälvsgatan 12-14)\, Nora\, 71331\, Sweden
ATTACH;FMTTYPE=image/jpeg:https://hangmed.se/wp-content/uploads/2025/10/tulbackagarden_IMG_2621_srickan.jpg
END:VEVENT
END:VCALENDAR