BEGIN:VCALENDAR
VERSION:2.0
PRODID:-//Häng med! - ECPv6.15.20//NONSGML v1.0//EN
CALSCALE:GREGORIAN
METHOD:PUBLISH
X-WR-CALNAME:Häng med!
X-ORIGINAL-URL:https://hangmed.se
X-WR-CALDESC:Händelser för Häng med!
REFRESH-INTERVAL;VALUE=DURATION:PT1H
X-Robots-Tag:noindex
X-PUBLISHED-TTL:PT1H
BEGIN:VTIMEZONE
TZID:Europe/Paris
BEGIN:DAYLIGHT
TZOFFSETFROM:+0100
TZOFFSETTO:+0200
TZNAME:CEST
DTSTART:20250330T010000
END:DAYLIGHT
BEGIN:STANDARD
TZOFFSETFROM:+0200
TZOFFSETTO:+0100
TZNAME:CET
DTSTART:20251026T010000
END:STANDARD
BEGIN:DAYLIGHT
TZOFFSETFROM:+0100
TZOFFSETTO:+0200
TZNAME:CEST
DTSTART:20260329T010000
END:DAYLIGHT
BEGIN:STANDARD
TZOFFSETFROM:+0200
TZOFFSETTO:+0100
TZNAME:CET
DTSTART:20261025T010000
END:STANDARD
BEGIN:DAYLIGHT
TZOFFSETFROM:+0100
TZOFFSETTO:+0200
TZNAME:CEST
DTSTART:20270328T010000
END:DAYLIGHT
BEGIN:STANDARD
TZOFFSETFROM:+0200
TZOFFSETTO:+0100
TZNAME:CET
DTSTART:20271031T010000
END:STANDARD
END:VTIMEZONE
BEGIN:VEVENT
DTSTART;TZID=Europe/Paris:20260421T100000
DTEND;TZID=Europe/Paris:20260421T120000
DTSTAMP:20260421T022135
CREATED:20251228T123225Z
LAST-MODIFIED:20251229T115720Z
UID:10000299-1776765600-1776772800@hangmed.se
SUMMARY:Bordtennis
DESCRIPTION:Bordtennis\, tisdagar varje vecka 10.00-12.00 \nPlats:   Tennishallen (Parkgatan 1\, Nora\, Sweden) \nBeskrivning:  Motionsspel två och två med trivsamt umgänge. \nKontakta ledaren före deltagande. \nDenna aktivitet är gratis. \nDenna aktivitet gäller bara för PRO-medlemmar\, men varför inte komma och prova på och bli medlem på plats. \nLedare:              Jan Rylander tel. 070-828 21 43 \nKontakta ledaren för flera frågor om aktiviteten\, tider och lokaler!
URL:https://hangmed.se/aktivitet/bordtennis/2026-04-21/
LOCATION:Tennishallen i Nora\, Parkgatan 1B\, Nora\, Örebro län\, 71331\, Sweden
ATTACH;FMTTYPE=image/jpeg:https://hangmed.se/wp-content/uploads/2025/12/bordtennis.jpg
ORGANIZER;CN="PRO Nora":MAILTO:nora@pro.se
END:VEVENT
BEGIN:VEVENT
DTSTART;TZID=Europe/Paris:20260421T140000
DTEND;TZID=Europe/Paris:20260421T160000
DTSTAMP:20260421T022135
CREATED:20260401T145007Z
LAST-MODIFIED:20260401T145007Z
UID:10000581-1776780000-1776787200@hangmed.se
SUMMARY:Club Skoga månadsmöte 21 april med allsång
DESCRIPTION:Ordinarie månadsmöte i Församlingshemmet 12 april kl 14.oo. \nProgram. Allsång med små berättelser på temat ”Dans borti vägen” \nMedlemmar i SPF Seniorerna är välkomna.
URL:https://hangmed.se/aktivitet/club-skoga-manadsmote-21-april-med-allsang/
LOCATION:Församlingshemmet\, Kungsgatan 12\, Nora\, Örebro län\, 71331\, Sweden
ATTACH;FMTTYPE=image/jpeg:https://hangmed.se/wp-content/uploads/2025/12/kor.jpg
ORGANIZER;CN="SPF Seniorerna Club Skoga (Nora)":MAILTO:clubskoga@gmail.com
END:VEVENT
END:VCALENDAR