BEGIN:VCALENDAR
VERSION:2.0
PRODID:-//Häng med! - ECPv6.15.20//NONSGML v1.0//EN
CALSCALE:GREGORIAN
METHOD:PUBLISH
X-WR-CALNAME:Häng med!
X-ORIGINAL-URL:https://hangmed.se
X-WR-CALDESC:Händelser för Häng med!
REFRESH-INTERVAL;VALUE=DURATION:PT1H
X-Robots-Tag:noindex
X-PUBLISHED-TTL:PT1H
BEGIN:VTIMEZONE
TZID:Europe/Paris
BEGIN:DAYLIGHT
TZOFFSETFROM:+0100
TZOFFSETTO:+0200
TZNAME:CEST
DTSTART:20250330T010000
END:DAYLIGHT
BEGIN:STANDARD
TZOFFSETFROM:+0200
TZOFFSETTO:+0100
TZNAME:CET
DTSTART:20251026T010000
END:STANDARD
BEGIN:DAYLIGHT
TZOFFSETFROM:+0100
TZOFFSETTO:+0200
TZNAME:CEST
DTSTART:20260329T010000
END:DAYLIGHT
BEGIN:STANDARD
TZOFFSETFROM:+0200
TZOFFSETTO:+0100
TZNAME:CET
DTSTART:20261025T010000
END:STANDARD
BEGIN:DAYLIGHT
TZOFFSETFROM:+0100
TZOFFSETTO:+0200
TZNAME:CEST
DTSTART:20270328T010000
END:DAYLIGHT
BEGIN:STANDARD
TZOFFSETFROM:+0200
TZOFFSETTO:+0100
TZNAME:CET
DTSTART:20271031T010000
END:STANDARD
END:VTIMEZONE
BEGIN:VEVENT
DTSTART;TZID=Europe/Paris:20260420T090000
DTEND;TZID=Europe/Paris:20260420T150000
DTSTAMP:20260420T021402
CREATED:20251228T124325Z
LAST-MODIFIED:20251228T124325Z
UID:10000319-1776675600-1776697200@hangmed.se
SUMMARY:Snickeri herrar
DESCRIPTION:Snickeri herrar\, måndagar varje vecka 9.00-15.00 \nPlats:      PRO:s Snickerilokal (Tullbacken 12\, kontakta ledaren för beskrivning av ingången.) \nBeskrivning: Du jobbar med ditt eget projekt och får lite handledning och inspiration i gruppen. Viss utrustning finns i lokalen. Bandsåg\, rikt- och planhyvel\, borrmaskin\, fräsverktyg\, träsvarv och manuella verktyg. \nLedare:         Göran Törnqvist tel. 070-341 83 58 \nDenna aktivitet är gratis. \nDenna aktivitet gäller bara för PRO-medlemmar\, men varför inte komma och prova på och bli medlem på plats. \nKontakta ledaren för flera frågor om aktiviteten\, tider och lokaler! \n 
URL:https://hangmed.se/aktivitet/snickeri-herrar/2026-04-20/
LOCATION:Tullbackagården\, Rådstugugatan 37\, (ingång från Svartälvsgatan 12-14)\, Nora\, 71331\, Sweden
ATTACH;FMTTYPE=image/jpeg:https://hangmed.se/wp-content/uploads/2025/12/snickeri.jpg
ORGANIZER;CN="PRO Nora":MAILTO:nora@pro.se
END:VEVENT
BEGIN:VEVENT
DTSTART;TZID=Europe/Paris:20260420T120000
DTEND;TZID=Europe/Paris:20260420T150000
DTSTAMP:20260420T021402
CREATED:20251228T122012Z
LAST-MODIFIED:20251228T122012Z
UID:10000278-1776686400-1776697200@hangmed.se
SUMMARY:Sy- och vävgrupp
DESCRIPTION:Sy- och Vävgrupp\, måndagar varje vecka 12.00-15.00       \nPlats:            PRO:s Sy- och vävlokal (Tullbacken 12\, kontakta ledarna för beskrivning av ingången.) \nBeskrivning:  Vi syr\, stickar och väver\, eller använder oss av andra textila tekniker\, utifrån vad vi har lust med. Vävstolar finns. Vi inspirerar varandra och fikar tillsammans. \nLedare:        Monika Hoikkala tel. 070-535 29 43 och Anette Karlsson tel. 070-762 31 44 \nDenna aktivitet är gratis. \nKontakta ledarna för flera frågor om aktiviteten\, tider och lokaler! \nDenna aktivitet gäller bara för PRO-medlemmar\, men varför inte komma och prova på och blir medlem på plats.
URL:https://hangmed.se/aktivitet/sy-och-vavgrupp/2026-04-20/
LOCATION:Tullbackagården\, Rådstugugatan 37\, (ingång från Svartälvsgatan 12-14)\, Nora\, 71331\, Sweden
ATTACH;FMTTYPE=image/jpeg:https://hangmed.se/wp-content/uploads/2025/12/Vavgrupp.jpg
ORGANIZER;CN="PRO Nora":MAILTO:nora@pro.se
END:VEVENT
BEGIN:VEVENT
DTSTART;TZID=Europe/Paris:20260420T140000
DTEND;TZID=Europe/Paris:20260420T160000
DTSTAMP:20260420T021402
CREATED:20260415T132421Z
LAST-MODIFIED:20260415T132541Z
UID:10000203-1776693600-1776700800@hangmed.se
SUMMARY:Träffpunkt Äntligen måndag - Nora bibliotek informerar om sina tjänster
DESCRIPTION:Träffpunkt Äntligen Måndag riktar sig främst till Noras seniorer och är öppen alla måndagar. \nDagens värdförening är Nora släktforskare. Nora bibliotek kommer och berättar om vilka tjänster de kan erbjuda. Tex Meröppet\, talböcker\, filmer att hyra mm mm.\nNär: måndagar \nTid: 14.00-16.00 \nVar: Rådstugugatan 37\, (ingång från Svartälvsgatan 12-14)\, 713 31 Nora\, Tullbackagårdens samlingssal.
URL:https://hangmed.se/aktivitet/traffpunkt-antligen-mandag-2-4/
LOCATION:Tullbackagården\, Rådstugugatan 37\, (ingång från Svartälvsgatan 12-14)\, Nora\, 71331\, Sweden
ATTACH;FMTTYPE=image/jpeg:https://hangmed.se/wp-content/uploads/2025/10/tulbackagarden_IMG_2621_srickan.jpg
END:VEVENT
END:VCALENDAR